BEGIN:VCALENDAR
VERSION:2.0
PRODID:-//MX Event Hub - ECPv6.10.0//NONSGML v1.0//EN
CALSCALE:GREGORIAN
METHOD:PUBLISH
X-WR-CALNAME:MX Event Hub
X-ORIGINAL-URL:https://mxeventhub.com
X-WR-CALDESC:Events for MX Event Hub
REFRESH-INTERVAL;VALUE=DURATION:PT1H
X-Robots-Tag:noindex
X-PUBLISHED-TTL:PT1H
BEGIN:VTIMEZONE
TZID:UTC
BEGIN:STANDARD
TZOFFSETFROM:+0000
TZOFFSETTO:+0000
TZNAME:UTC
DTSTART:20240101T000000
END:STANDARD
TZID:Asia/Kuching
BEGIN:STANDARD
TZOFFSETFROM:+0800
TZOFFSETTO:+0800
TZNAME:+08
DTSTART:20240101T000000
END:STANDARD
TZID:Asia/Kuala_Lumpur
BEGIN:STANDARD
TZOFFSETFROM:+0800
TZOFFSETTO:+0800
TZNAME:+08
DTSTART:20240101T000000
END:STANDARD
END:VTIMEZONE
BEGIN:VEVENT
DTSTART;VALUE=DATE:20241218
DTEND;VALUE=DATE:20250103
DTSTAMP:20260424T004510
CREATED:20240428T172647Z
LAST-MODIFIED:20240505T191914Z
UID:10000026-1734480000-1735862399@mxeventhub.com
SUMMARY:GoGo Pets (Aeroville Mall \,Kuching)
DESCRIPTION:
URL:https://mxeventhub.com/event/gogo-pets-aeroville-mall-kuching-2/
LOCATION:Aeroville Mall Kuching\, Aeroville Mall\, Kuching\, Sarawak\, Malaysia
CATEGORIES:GoGo Pets
ATTACH;FMTTYPE=image/png:https://mxeventhub.com/wp-content/uploads/2021/04/Logo-MX-Event-Hub.png
ORGANIZER;CN="MX Event Hub":MAILTO:mxeventhub@gmail.com
END:VEVENT
BEGIN:VEVENT
DTSTART;VALUE=DATE:20241218
DTEND;VALUE=DATE:20250103
DTSTAMP:20260424T004510
CREATED:20240428T172504Z
LAST-MODIFIED:20240505T194609Z
UID:10000025-1734480000-1735862399@mxeventhub.com
SUMMARY:GoGo Pets (Likas\, Kota Kinabalu)
DESCRIPTION:
URL:https://mxeventhub.com/event/gogo-pets-likas-kota-kinabalu/
LOCATION:Likas\, Likas\, Kota Kinabalu\, Sabah\, Malaysia
CATEGORIES:GoGo Pets
ATTACH;FMTTYPE=image/png:https://mxeventhub.com/wp-content/uploads/2021/04/Logo-MX-Event-Hub.png
ORGANIZER;CN="MX Event Hub":MAILTO:mxeventhub@gmail.com
END:VEVENT
BEGIN:VEVENT
DTSTART;VALUE=DATE:20241218
DTEND;VALUE=DATE:20250103
DTSTAMP:20260424T004510
CREATED:20240428T173722Z
LAST-MODIFIED:20240513T222034Z
UID:10000029-1734480000-1735862399@mxeventhub.com
SUMMARY:Borneo Obstacle Race (Aeroville Mall\, Kuching)
DESCRIPTION:
URL:https://mxeventhub.com/event/borneo-obstacle-race-aeroville-mall-kuching/
LOCATION:Aeroville Mall Kuching\, Aeroville Mall\, Kuching\, Sarawak\, Malaysia
CATEGORIES:Borneo Obstacle Race
ATTACH;FMTTYPE=image/png:https://mxeventhub.com/wp-content/uploads/2021/04/3.png
ORGANIZER;CN="MX Event Hub":MAILTO:mxeventhub@gmail.com
END:VEVENT
BEGIN:VEVENT
DTSTART;VALUE=DATE:20241218
DTEND;VALUE=DATE:20250103
DTSTAMP:20260424T004510
CREATED:20240428T173502Z
LAST-MODIFIED:20240513T220935Z
UID:10000028-1734480000-1735862399@mxeventhub.com
SUMMARY:Borneo Obstacle Race (Likas\, Kota Kinabalu)
DESCRIPTION:
URL:https://mxeventhub.com/event/borneo-obstacle-race-likas-kota-kinabalu/
LOCATION:Likas\, Likas\, Kota Kinabalu\, Sabah\, Malaysia
CATEGORIES:Borneo Obstacle Race
ATTACH;FMTTYPE=image/png:https://mxeventhub.com/wp-content/uploads/2021/04/3.png
ORGANIZER;CN="MX Event Hub":MAILTO:mxeventhub@gmail.com
END:VEVENT
BEGIN:VEVENT
DTSTART;VALUE=DATE:20241123
DTEND;VALUE=DATE:20241202
DTSTAMP:20260424T004510
CREATED:20240428T172220Z
LAST-MODIFIED:20240505T194823Z
UID:10000024-1732320000-1733097599@mxeventhub.com
SUMMARY:GoGo Pets (Methodist Church\, Jln Sin Onn\, Tawau)
DESCRIPTION:
URL:https://mxeventhub.com/event/gogo-pets-methodist-church-jln-sin-onn-tawau-2/
LOCATION:Methodist Church\, Methodist Church\, Tawau\, Sabah\, Malaysia
CATEGORIES:GoGo Pets
ATTACH;FMTTYPE=image/png:https://mxeventhub.com/wp-content/uploads/2021/04/Logo-MX-Event-Hub.png
ORGANIZER;CN="MX Event Hub":MAILTO:mxeventhub@gmail.com
END:VEVENT
BEGIN:VEVENT
DTSTART;VALUE=DATE:20241123
DTEND;VALUE=DATE:20241202
DTSTAMP:20260424T004510
CREATED:20240428T173211Z
LAST-MODIFIED:20240513T220049Z
UID:10000027-1732320000-1733097599@mxeventhub.com
SUMMARY:Borneo Obstacle Race (Methodist Church\, Jln Sin Onn\, Tawau)
DESCRIPTION:
URL:https://mxeventhub.com/event/borneo-obstacle-race-methodist-church-jln-sin-onn-tawau-2/
LOCATION:Methodist Church\, Methodist Church\, Tawau\, Sabah\, Malaysia
CATEGORIES:Borneo Obstacle Race
ATTACH;FMTTYPE=image/png:https://mxeventhub.com/wp-content/uploads/2021/04/3.png
ORGANIZER;CN="MX Event Hub":MAILTO:mxeventhub@gmail.com
END:VEVENT
BEGIN:VEVENT
DTSTART;VALUE=DATE:20241109
DTEND;VALUE=DATE:20241118
DTSTAMP:20260424T004510
CREATED:20240428T171244Z
LAST-MODIFIED:20240505T195219Z
UID:10000023-1731110400-1731887999@mxeventhub.com
SUMMARY:GoGo Pets (Hakka Hall\, Sandakan)
DESCRIPTION:
URL:https://mxeventhub.com/event/gogo-pets-hakka-hall-sandakan/
LOCATION:Hakka Hall\, Hakka Hall\, Mile 6\, Sandakan\, Sabah\, Malaysia
CATEGORIES:GoGo Pets
ATTACH;FMTTYPE=image/png:https://mxeventhub.com/wp-content/uploads/2021/04/Logo-MX-Event-Hub.png
ORGANIZER;CN="MX Event Hub":MAILTO:mxeventhub@gmail.com
END:VEVENT
BEGIN:VEVENT
DTSTART;VALUE=DATE:20241109
DTEND;VALUE=DATE:20241118
DTSTAMP:20260424T004510
CREATED:20240417T194302Z
LAST-MODIFIED:20240513T214500Z
UID:10000009-1731110400-1731887999@mxeventhub.com
SUMMARY:Borneo Obstacle Race (Hakka Hall\, Mile 6\, Sandakan)
DESCRIPTION:
URL:https://mxeventhub.com/event/borneo-obstacle-race-hakka-hall-mile-6-sandakan/
LOCATION:Hakka Hall\, Hakka Hall\, Mile 6\, Sandakan\, Sabah\, Malaysia
CATEGORIES:Borneo Obstacle Race
ATTACH;FMTTYPE=image/png:https://mxeventhub.com/wp-content/uploads/2021/04/3.png
ORGANIZER;CN="MX Event Hub":MAILTO:mxeventhub@gmail.com
END:VEVENT
BEGIN:VEVENT
DTSTART;VALUE=DATE:20240929
DTEND;VALUE=DATE:20240930
DTSTAMP:20260424T004510
CREATED:20240822T072515Z
LAST-MODIFIED:20240822T074346Z
UID:10000045-1727568000-1727654399@mxeventhub.com
SUMMARY:GoGo Pets Run
DESCRIPTION:
URL:https://mxeventhub.com/event/gogo-pets-fun-run/
LOCATION:Sandakan Turf Club (STC)\, Jalan Sibuga\, Sandakan\, Sabah\, 90000\, Malaysia
CATEGORIES:GoGo Pets
ATTACH;FMTTYPE=image/png:https://mxeventhub.com/wp-content/uploads/2024/08/poster-ggprun-1.png
ORGANIZER;CN="MX Event Hub":MAILTO:mxeventhub@gmail.com
END:VEVENT
BEGIN:VEVENT
DTSTART;VALUE=DATE:20240914
DTEND;VALUE=DATE:20240923
DTSTAMP:20260424T004510
CREATED:20240428T171104Z
LAST-MODIFIED:20240505T195730Z
UID:10000022-1726272000-1727049599@mxeventhub.com
SUMMARY:GoGo Pets (Permy Mall\, Miri)
DESCRIPTION:
URL:https://mxeventhub.com/event/gogo-pets-permy-mall-miri/
LOCATION:Permy Mall\, Permy Mall\, Miri\, Sarawak\, Malaysia
CATEGORIES:GoGo Pets
ATTACH;FMTTYPE=image/png:https://mxeventhub.com/wp-content/uploads/2021/04/Logo-MX-Event-Hub.png
ORGANIZER;CN="MX Event Hub":MAILTO:mxeventhub@gmail.com
END:VEVENT
BEGIN:VEVENT
DTSTART;VALUE=DATE:20240905
DTEND;VALUE=DATE:20240909
DTSTAMP:20260424T004510
CREATED:20240428T170831Z
LAST-MODIFIED:20240505T195059Z
UID:10000021-1725494400-1725839999@mxeventhub.com
SUMMARY:GoGo Pets (Times Square Megamall\, Bintulu)
DESCRIPTION:
URL:https://mxeventhub.com/event/gogo-pets-times-square-megamall-bintulu/
LOCATION:Times Square Megamall\, Times Square Megamall\, Bintulu\, Sarawak
CATEGORIES:GoGo Pets
ATTACH;FMTTYPE=image/png:https://mxeventhub.com/wp-content/uploads/2021/04/Logo-MX-Event-Hub.png
ORGANIZER;CN="MX Event Hub":MAILTO:mxeventhub@gmail.com
END:VEVENT
BEGIN:VEVENT
DTSTART;VALUE=DATE:20240905
DTEND;VALUE=DATE:20240909
DTSTAMP:20260424T004510
CREATED:20240425T194309Z
LAST-MODIFIED:20240513T222517Z
UID:10000014-1725494400-1725839999@mxeventhub.com
SUMMARY:Borneo Obstacle Race (Times Square Megamall\, Bintulu)
DESCRIPTION:
URL:https://mxeventhub.com/event/borneo-obstacle-race-times-square-megamall-bintulu/
LOCATION:Times Square Megamall\, Times Square Megamall\, Bintulu\, Sarawak
CATEGORIES:Borneo Obstacle Race
ATTACH;FMTTYPE=image/png:https://mxeventhub.com/wp-content/uploads/2021/04/3.png
ORGANIZER;CN="MX Event Hub":MAILTO:mxeventhub@gmail.com
END:VEVENT
BEGIN:VEVENT
DTSTART;VALUE=DATE:20240829
DTEND;VALUE=DATE:20241002
DTSTAMP:20260424T004510
CREATED:20240428T170631Z
LAST-MODIFIED:20240505T194510Z
UID:10000020-1724889600-1727827199@mxeventhub.com
SUMMARY:GoGo Pets (Aeroville Mall\, Kuching)
DESCRIPTION:
URL:https://mxeventhub.com/event/gogo-pets-aeroville-mall-kuching/
LOCATION:Aeroville Mall Kuching\, Aeroville Mall\, Kuching\, Sarawak\, Malaysia
CATEGORIES:GoGo Pets
ATTACH;FMTTYPE=image/png:https://mxeventhub.com/wp-content/uploads/2021/04/Logo-MX-Event-Hub.png
ORGANIZER;CN="MX Event Hub":MAILTO:mxeventhub@gmail.com
END:VEVENT
BEGIN:VEVENT
DTSTART;VALUE=DATE:20240829
DTEND;VALUE=DATE:20240902
DTSTAMP:20260424T004510
CREATED:20240425T171834Z
LAST-MODIFIED:20240513T222739Z
UID:10000011-1724889600-1725235199@mxeventhub.com
SUMMARY:Borneo Obstacle Race (Aeroville Mall\, Kuching)
DESCRIPTION:
URL:https://mxeventhub.com/event/borneo-obstacle-race-aeroville-mall-kuching-kuching/
LOCATION:Aeroville Mall Kuching\, Aeroville Mall\, Kuching\, Sarawak\, Malaysia
CATEGORIES:Borneo Obstacle Race
ATTACH;FMTTYPE=image/png:https://mxeventhub.com/wp-content/uploads/2021/04/3.png
ORGANIZER;CN="MX Event Hub":MAILTO:mxeventhub@gmail.com
END:VEVENT
BEGIN:VEVENT
DTSTART;VALUE=DATE:20240822
DTEND;VALUE=DATE:20240826
DTSTAMP:20260424T004510
CREATED:20240428T170359Z
LAST-MODIFIED:20240830T095427Z
UID:10000019-1724284800-1724630399@mxeventhub.com
SUMMARY:GoGo Pets (Swan Mall\, Sibu)
DESCRIPTION:
URL:https://mxeventhub.com/event/gogo-pets-swan-mall-sibu/
LOCATION:Swan Mall\, Swan Mall\, Sibu\, Sarawak\, Malaysia
CATEGORIES:GoGo Pets
ATTACH;FMTTYPE=image/png:https://mxeventhub.com/wp-content/uploads/2021/04/Logo-MX-Event-Hub.png
ORGANIZER;CN="MX Event Hub":MAILTO:mxeventhub@gmail.com
END:VEVENT
BEGIN:VEVENT
DTSTART;VALUE=DATE:20240822
DTEND;VALUE=DATE:20240826
DTSTAMP:20260424T004510
CREATED:20240417T195105Z
LAST-MODIFIED:20240513T223105Z
UID:10000010-1724284800-1724630399@mxeventhub.com
SUMMARY:Borneo Obstacle Race (Swan Mall\, Sibu)
DESCRIPTION:
URL:https://mxeventhub.com/event/borneo-obstacle-race-swan-mall-sibu/
LOCATION:Swan Mall\, Swan Mall\, Sibu\, Sarawak\, Malaysia
CATEGORIES:Borneo Obstacle Race
ATTACH;FMTTYPE=image/png:https://mxeventhub.com/wp-content/uploads/2021/04/3.png
ORGANIZER;CN="MX Event Hub":MAILTO:mxeventhub@gmail.com
END:VEVENT
BEGIN:VEVENT
DTSTART;VALUE=DATE:20240816
DTEND;VALUE=DATE:20240819
DTSTAMP:20260424T004510
CREATED:20240428T170053Z
LAST-MODIFIED:20240614T032344Z
UID:10000018-1723766400-1724025599@mxeventhub.com
SUMMARY:GoGo Pets (Yu Yuan Hall \, Mile 4\, Sandakan)
DESCRIPTION:
URL:https://mxeventhub.com/event/gogo-pets-yu-yuan-hall-mile-4-sandakan/
LOCATION:Yu Yuan Hall\, Mile 4\, Sandakan\, Sabah\, 90000\, Malaysia
CATEGORIES:GoGo Pets
ATTACH;FMTTYPE=image/png:https://mxeventhub.com/wp-content/uploads/2021/04/Logo-MX-Event-Hub.png
ORGANIZER;CN="MX Event Hub":MAILTO:mxeventhub@gmail.com
END:VEVENT
BEGIN:VEVENT
DTSTART;VALUE=DATE:20240814
DTEND;VALUE=DATE:20240923
DTSTAMP:20260424T004510
CREATED:20240425T182313Z
LAST-MODIFIED:20240513T223413Z
UID:10000012-1723593600-1727049599@mxeventhub.com
SUMMARY:Borneo Obstacle Race (Permy Mall\, Miri)
DESCRIPTION:
URL:https://mxeventhub.com/event/miri/
LOCATION:Permy Mall\, Permy Mall\, Miri\, Sarawak\, Malaysia
CATEGORIES:Borneo Obstacle Race
ATTACH;FMTTYPE=image/png:https://mxeventhub.com/wp-content/uploads/2021/04/3.png
ORGANIZER;CN="MX Event Hub":MAILTO:mxeventhub@gmail.com
END:VEVENT
BEGIN:VEVENT
DTSTART;VALUE=DATE:20240805
DTEND;VALUE=DATE:20240909
DTSTAMP:20260424T004510
CREATED:20240425T191536Z
LAST-MODIFIED:20240925T020605Z
UID:10000013-1722816000-1725839999@mxeventhub.com
SUMMARY:Borneo Obstacle Race (Sandakan Turf Club - STC)
DESCRIPTION:September 28\n–\nSeptember 29 \nRM88.00 \n \n\n\n\n\n \nTickets\nThe numbers below include tickets for this event already in your cart. Clicking “Get Tickets” will allow you to edit any existing attendee information as well as change ticket quantities.\nBorneo Obstacle Race (Sandakan Turf Club)\nAge Range: 13 – 65 years old\nRM\n88.00\nUnlimited\n\nDecrease ticket quantity for Borneo Obstacle Race (Sandakan Turf Club)\n–\n\nQuantity \n\n\nIncrease ticket quantity for Borneo Obstacle Race (Sandakan Turf Club)\n+\n\n\nHide my attendee data from public view. \nQuantity:\n0\nTotal:\nRM\n0.00\nGet Tickets \n\nCategories:\nBorneo Obstacle Race \nWebsite:\nhttps://www.facebook.com/borneoobstaclerace \n\nMX Event Hub \n  \nView Organizer Website \n\nmxeventhub@gmail.com  \n\nSandakan Turf Club (STC) \nJalan SibugaSandakan\,\nSabah\n90000\nMalaysia\n+ Google Map \n  \n\n\n\n\nAdd to calendar \n  \n\nGoogle Calendar\niCalendar\nOutlook 365\nOutlook Live\n\n\n\n\nGoGo Pets (Permy Mall\, Miri) \n\nGoGo Pets Run
URL:https://mxeventhub.com/event/borneo-obstacle-race-sandakan-turf-club-stc/
LOCATION:Sandakan Turf Club (STC)\, Jalan Sibuga\, Sandakan\, Sabah\, 90000\, Malaysia
CATEGORIES:Borneo Obstacle Race
ATTACH;FMTTYPE=image/png:https://mxeventhub.com/wp-content/uploads/2024/04/BOR-DP.png
ORGANIZER;CN="MX Event Hub":MAILTO:mxeventhub@gmail.com
END:VEVENT
BEGIN:VEVENT
DTSTART;VALUE=DATE:20240705
DTEND;VALUE=DATE:20240709
DTSTAMP:20260424T004510
CREATED:20240429T003703Z
LAST-MODIFIED:20240706T062252Z
UID:10000030-1720137600-1720483199@mxeventhub.com
SUMMARY:Pet Kingdom Expo
DESCRIPTION:
URL:https://mxeventhub.com/event/pet-kingdom-expo/
LOCATION:Sabah International Convention Centre (SICC)\, Jalan Tanjung Lipat\, Malaysia
CATEGORIES:Pet Kingdom Expo
ORGANIZER;CN="MX Event Hub":MAILTO:mxeventhub@gmail.com
END:VEVENT
BEGIN:VEVENT
DTSTART;VALUE=DATE:20240620
DTEND;VALUE=DATE:20240624
DTSTAMP:20260424T004510
CREATED:20240428T165125Z
LAST-MODIFIED:20240505T195242Z
UID:10000017-1718841600-1719187199@mxeventhub.com
SUMMARY:GoGo Pets (Methodist Church\, Jln Sin Onn\, Tawau)
DESCRIPTION:
URL:https://mxeventhub.com/event/gogo-pets-methodist-church-jln-sin-onn-tawau/
LOCATION:Methodist Church\, Methodist Church\, Tawau\, Sabah\, Malaysia
CATEGORIES:GoGo Pets
ATTACH;FMTTYPE=image/png:https://mxeventhub.com/wp-content/uploads/2021/04/Logo-MX-Event-Hub.png
ORGANIZER;CN="MX Event Hub":MAILTO:mxeventhub@gmail.com
END:VEVENT
BEGIN:VEVENT
DTSTART;VALUE=DATE:20240620
DTEND;VALUE=DATE:20240624
DTSTAMP:20260424T004510
CREATED:20240417T192813Z
LAST-MODIFIED:20240513T223859Z
UID:10000008-1718841600-1719187199@mxeventhub.com
SUMMARY:Borneo Obstacle Race (Methodist Church\, Jln Sin Onn\, Tawau)
DESCRIPTION:
URL:https://mxeventhub.com/event/borneo-obstacle-race-methodist-church-jln-sin-onn-tawau/
LOCATION:Methodist Church\, Methodist Church\, Tawau\, Sabah\, Malaysia
CATEGORIES:Borneo Obstacle Race
ATTACH;FMTTYPE=image/png:https://mxeventhub.com/wp-content/uploads/2021/04/3.png
ORGANIZER;CN="MX Event Hub":MAILTO:mxeventhub@gmail.com
END:VEVENT
BEGIN:VEVENT
DTSTART;VALUE=DATE:20240528
DTEND;VALUE=DATE:20240603
DTSTAMP:20260424T004510
CREATED:20240415T225755Z
LAST-MODIFIED:20240527T132740Z
UID:10000007-1716854400-1717372799@mxeventhub.com
SUMMARY:Borneo Obstacle Race Trial (Likas\, Kota Kinabalu)
DESCRIPTION:
URL:https://mxeventhub.com/event/borneo-obstacle-race-trial-likas-kota-kinabalu/
LOCATION:Likas\, Likas\, Kota Kinabalu\, Sabah\, Malaysia
CATEGORIES:Borneo Obstacle Race
ATTACH;FMTTYPE=image/png:https://mxeventhub.com/wp-content/uploads/2021/04/3.png
ORGANIZER;CN="MX Event Hub":MAILTO:mxeventhub@gmail.com
END:VEVENT
BEGIN:VEVENT
DTSTART;VALUE=DATE:20240525
DTEND;VALUE=DATE:20240603
DTSTAMP:20260424T004510
CREATED:20240428T164559Z
LAST-MODIFIED:20240505T195200Z
UID:10000016-1716595200-1717372799@mxeventhub.com
SUMMARY:GoGo Pets (Likas\, Kota Kinabalu)
DESCRIPTION:
URL:https://mxeventhub.com/event/gogo-pets/
LOCATION:Likas\, Likas\, Kota Kinabalu\, Sabah\, Malaysia
CATEGORIES:GoGo Pets
ATTACH;FMTTYPE=image/png:https://mxeventhub.com/wp-content/uploads/2021/04/Logo-MX-Event-Hub.png
ORGANIZER;CN="MX Event Hub":MAILTO:mxeventhub@gmail.com
END:VEVENT
END:VCALENDAR