BEGIN:VCALENDAR
VERSION:2.0
PRODID:-//MX Event Hub - ECPv6.10.0//NONSGML v1.0//EN
CALSCALE:GREGORIAN
METHOD:PUBLISH
X-ORIGINAL-URL:https://mxeventhub.com
X-WR-CALDESC:Events for MX Event Hub
REFRESH-INTERVAL;VALUE=DURATION:PT1H
X-Robots-Tag:noindex
X-PUBLISHED-TTL:PT1H
BEGIN:VTIMEZONE
TZID:Asia/Kuching
BEGIN:STANDARD
TZOFFSETFROM:+0800
TZOFFSETTO:+0800
TZNAME:+08
DTSTART:20240101T000000
END:STANDARD
END:VTIMEZONE
BEGIN:VEVENT
DTSTART;VALUE=DATE:20240705
DTEND;VALUE=DATE:20240709
DTSTAMP:20260424T022508
CREATED:20240429T003703Z
LAST-MODIFIED:20240706T062252Z
UID:10000030-1720137600-1720483199@mxeventhub.com
SUMMARY:Pet Kingdom Expo
DESCRIPTION:
URL:https://mxeventhub.com/event/pet-kingdom-expo/
LOCATION:Sabah International Convention Centre (SICC)\, Jalan Tanjung Lipat\, Malaysia
CATEGORIES:Pet Kingdom Expo
ORGANIZER;CN="MX Event Hub":MAILTO:mxeventhub@gmail.com
END:VEVENT
END:VCALENDAR