BEGIN:VCALENDAR
VERSION:2.0
PRODID:-//MX Event Hub - ECPv6.10.0//NONSGML v1.0//EN
CALSCALE:GREGORIAN
METHOD:PUBLISH
X-WR-CALNAME:MX Event Hub
X-ORIGINAL-URL:https://mxeventhub.com
X-WR-CALDESC:Events for MX Event Hub
REFRESH-INTERVAL;VALUE=DURATION:PT1H
X-Robots-Tag:noindex
X-PUBLISHED-TTL:PT1H
BEGIN:VTIMEZONE
TZID:Asia/Kuching
BEGIN:STANDARD
TZOFFSETFROM:+0800
TZOFFSETTO:+0800
TZNAME:+08
DTSTART:20240101T000000
END:STANDARD
END:VTIMEZONE
BEGIN:VEVENT
DTSTART;VALUE=DATE:20240928
DTEND;VALUE=DATE:20240930
DTSTAMP:20260423T232026
CREATED:20240425T191536Z
LAST-MODIFIED:20240925T020605Z
UID:2135-1727481600-1727654399@mxeventhub.com
SUMMARY:Borneo Obstacle Race (Sandakan Turf Club - STC)
DESCRIPTION:September 28\n\n		\n	\n	  -  \n\n	September 29\n\n	\n				\n				\n				\n				\n					\nRM88.00 – RM128.00 				\n				\n		\n		\n				\n				\n					\n	\n				\n				\n				\n		\n				\n				\n					\n	\n\n		\n		\n		\n\n		\n\n\n		\n\n\n\n	Tickets\n\n		\n	\n	\n		The numbers below include tickets for this event already in your cart. Clicking "Get Tickets" will allow you to edit any existing attendee information as well as change ticket quantities.	\n\n\n		\n		\n		\n	\n		Tickets are no longer available	\n\n\n		\n	\n	\n	\n\n\n	\n\n	\n\n\n				\n				\n				\n				\n		\n		\n				\n				\n					\n	\n\n	Categories:	\n		Borneo Obstacle Race	\n\n				\n				\n				\n				\n					\n	\n	Website:	\n	https://www.facebook.com/borneoobstaclerace\n\n				\n				\n				\n		\n				\n				\n					\n	\n			\n			MX Event Hub			\n	\n\n	\n	\n\n	Phone:\n					\n						\n	 \n\n\n	\n\n	Website:View Organizer Website \n\n\n	\n	Email:\n					\n			mxeventhub@gmail.com			\n	 \n\n\n\n				\n				\n				\n				\n		\n		\n				\n				\n					\n				\n				\n	\n			\n		Sandakan Turf Club (STC)			\n	\n	\n	\n\nJalan Sibuga\n	\n		\n		Sandakan\,\n\n	Sabah\n\n	90000\n\n	Malaysia\n\n\n\n\n	+ Google Map \n\n\n	\n					\n						\n	 \n\n\n	\n	 \n\n\n\n	\n\n\n\n		\n	\n				\n				\n				\n				\n		\n		\n				\n				\n					\n	\n		\n\n	\n	Add to calendar	\n		\n	\n\n		\n			\n									\n	Google Calendar\n\n									\n	iCalendar\n\n									\n	Outlook 365\n\n									\n	Outlook Live\n\n							\n		\n\n		\n	\n\n				\n				\n				\n				\n		\n		\n				\n				\n					\n	\n		\n\n				GoGo Pets (Permy Mall\, Miri)	\n\n\n		\n	\n		GoGo Pets Run
URL:https://mxeventhub.com/event/borneo-obstacle-race-sandakan-turf-club-stc/
LOCATION:Sandakan Turf Club (STC)\, Jalan Sibuga\, Sandakan\, Sabah\, 90000\, Malaysia
CATEGORIES:Borneo Obstacle Race
ATTACH;FMTTYPE=image/png:https://mxeventhub.com/wp-content/uploads/2024/04/BOR-DP.png
ORGANIZER;CN="MX Event Hub":MAILTO:mxeventhub@gmail.com
END:VEVENT
END:VCALENDAR